BEGIN:VCALENDAR
VERSION:2.0
PRODID:-//The Holiday Atlas - ECPv6.15.20//NONSGML v1.0//EN
CALSCALE:GREGORIAN
METHOD:PUBLISH
X-WR-CALNAME:The Holiday Atlas
X-ORIGINAL-URL:https://theholidayatlas.com
X-WR-CALDESC:Events for The Holiday Atlas
REFRESH-INTERVAL;VALUE=DURATION:PT1H
X-Robots-Tag:noindex
X-PUBLISHED-TTL:PT1H
BEGIN:VTIMEZONE
TZID:America/New_York
BEGIN:DAYLIGHT
TZOFFSETFROM:-0500
TZOFFSETTO:-0400
TZNAME:EDT
DTSTART:20230312T070000
END:DAYLIGHT
BEGIN:STANDARD
TZOFFSETFROM:-0400
TZOFFSETTO:-0500
TZNAME:EST
DTSTART:20231105T060000
END:STANDARD
BEGIN:DAYLIGHT
TZOFFSETFROM:-0500
TZOFFSETTO:-0400
TZNAME:EDT
DTSTART:20240310T070000
END:DAYLIGHT
BEGIN:STANDARD
TZOFFSETFROM:-0400
TZOFFSETTO:-0500
TZNAME:EST
DTSTART:20241103T060000
END:STANDARD
BEGIN:DAYLIGHT
TZOFFSETFROM:-0500
TZOFFSETTO:-0400
TZNAME:EDT
DTSTART:20250309T070000
END:DAYLIGHT
BEGIN:STANDARD
TZOFFSETFROM:-0400
TZOFFSETTO:-0500
TZNAME:EST
DTSTART:20251102T060000
END:STANDARD
END:VTIMEZONE
BEGIN:VEVENT
DTSTART;TZID=America/New_York:20241207T100000
DTEND;TZID=America/New_York:20241207T120000
DTSTAMP:20260421T125017
CREATED:20221127T171811Z
LAST-MODIFIED:20241023T150504Z
UID:10000155-1733565600-1733572800@theholidayatlas.com
SUMMARY:Clermont Hometown Parade
DESCRIPTION:“SLEIGHted” to start at 10 AM this parade will depart from Waterfront Park and navigate through Historic Downtown. There will be festive floats\, marching bands\, and many local groups participating in this annual parade for the Clermont community. All are invited to join us either as a spectator or a parade participant. \nThe City of Clermont invites you to participate in the City’s 35th Annual Christmas Parade taking place at Waterfront Park / Historic Downtown Clermont. \nThis Year’s Theme: \nRocking Around the Christmas Tree! \n\n\n\n\n\n\n\n\n\n\n\n\n\n\n	Related
URL:https://theholidayatlas.com/event/clermont-hometown-parade/
LOCATION:Waterfront Park/Historic Downtown Clermont\, 330 3rd St.\, Clermont\, FL\, 34711\, United States
CATEGORIES:Community Event,Land Parade,Orlando Events
GEO:28.5602147;-81.7602867
X-APPLE-STRUCTURED-LOCATION;VALUE=URI;X-ADDRESS=Waterfront Park/Historic Downtown Clermont 330 3rd St. Clermont FL 34711 United States;X-APPLE-RADIUS=500;X-TITLE=330 3rd St.:geo:-81.7602867,28.5602147
END:VEVENT
END:VCALENDAR